BEGIN:VCALENDAR
VERSION:2.0
PRODID:-//Årås Säteri &amp; Trädgård - ECPv6.2.0.1//NONSGML v1.0//EN
CALSCALE:GREGORIAN
METHOD:PUBLISH
X-ORIGINAL-URL:https://nya.araskvarn.se
X-WR-CALDESC:Händelser för Årås Säteri &amp; Trädgård
REFRESH-INTERVAL;VALUE=DURATION:PT1H
X-Robots-Tag:noindex
X-PUBLISHED-TTL:PT1H
BEGIN:VTIMEZONE
TZID:UTC
BEGIN:STANDARD
TZOFFSETFROM:+0000
TZOFFSETTO:+0000
TZNAME:UTC
DTSTART:20230101T000000
END:STANDARD
END:VTIMEZONE
BEGIN:VEVENT
DTSTART;TZID=UTC:20230623T150000
DTEND;TZID=UTC:20230623T170000
DTSTAMP:20260422T195638
CREATED:20230428T094650Z
LAST-MODIFIED:20230428T094650Z
UID:3756-1687532400-1687539600@nya.araskvarn.se
SUMMARY:Midsommarfirande Årås
DESCRIPTION:Midsommarfirande på Årås\nMajstången ska majas och resas\, lek och dans runt stången\, fika och glass i trädgårdscaféet. \nNär: Fredag 23/6\nTid: kl 15:00 – 17:00
URL:https://nya.araskvarn.se/evenemang/midsommarfirande-aras/
LOCATION:Årås Säteri & Trädgård\, Kölingared 112\, Dalum\, 523 75\, Sverige
END:VEVENT
END:VCALENDAR