BEGIN:VCALENDAR
VERSION:2.0
PRODID:-//Årås Säteri &amp; Trädgård - ECPv6.2.0.1//NONSGML v1.0//EN
CALSCALE:GREGORIAN
METHOD:PUBLISH
X-ORIGINAL-URL:https://nya.araskvarn.se
X-WR-CALDESC:Händelser för Årås Säteri &amp; Trädgård
REFRESH-INTERVAL;VALUE=DURATION:PT1H
X-Robots-Tag:noindex
X-PUBLISHED-TTL:PT1H
BEGIN:VTIMEZONE
TZID:UTC
BEGIN:STANDARD
TZOFFSETFROM:+0000
TZOFFSETTO:+0000
TZNAME:UTC
DTSTART:20230101T000000
END:STANDARD
END:VTIMEZONE
BEGIN:VEVENT
DTSTART;TZID=UTC:20230903T130000
DTEND;TZID=UTC:20230903T160000
DTSTAMP:20260422T134455
CREATED:20230428T100238Z
LAST-MODIFIED:20230717T080948Z
UID:3769-1693746000-1693756800@nya.araskvarn.se
SUMMARY:Skördemarknad
DESCRIPTION:Skördemarknad\nSommarens alla godsaker till försäljning från egen och andras trädgårdar. Marknadsstånd med allehanda trevligheter som hör hösten och maten till. Servering av fika och soppa med tillbehör. \nNär: 3 september\nTid: kl 13-16
URL:https://nya.araskvarn.se/evenemang/skordemarknad/
LOCATION:Årås Säteri & Trädgård\, Kölingared 112\, Dalum\, 523 75\, Sverige
ATTACH;FMTTYPE=image/jpeg:https://media1.araskvarn.se/2023/04/Skordemarknad_Eget_stand-liggande.jpg
END:VEVENT
END:VCALENDAR