BEGIN:VCALENDAR
VERSION:2.0
PRODID:-//Årås Säteri &amp; Trädgård - ECPv6.2.0.1//NONSGML v1.0//EN
CALSCALE:GREGORIAN
METHOD:PUBLISH
X-ORIGINAL-URL:https://nya.araskvarn.se
X-WR-CALDESC:Händelser för Årås Säteri &amp; Trädgård
REFRESH-INTERVAL;VALUE=DURATION:PT1H
X-Robots-Tag:noindex
X-PUBLISHED-TTL:PT1H
BEGIN:VTIMEZONE
TZID:UTC
BEGIN:STANDARD
TZOFFSETFROM:+0000
TZOFFSETTO:+0000
TZNAME:UTC
DTSTART:20230101T000000
END:STANDARD
END:VTIMEZONE
BEGIN:VEVENT
DTSTART;TZID=UTC:20230924T100000
DTEND;TZID=UTC:20230924T163000
DTSTAMP:20260422T134501
CREATED:20230428T095543Z
LAST-MODIFIED:20230428T095543Z
UID:3767-1695549600-1695573000@nya.araskvarn.se
SUMMARY:Lilla Bifondsdagen
DESCRIPTION:Lilla Bifondsdagen\nNu tittar vi på resultatet av pollinerarnas arbete i Säteriparken! \nNär: 20 september\nTid: kl 10-16
URL:https://nya.araskvarn.se/evenemang/lilla-bifondsdagen/
LOCATION:Årås Säteri & Trädgård\, Kölingared 112\, Dalum\, 523 75\, Sverige
END:VEVENT
END:VCALENDAR