BEGIN:VCALENDAR
VERSION:2.0
PRODID:-//Årås Säteri &amp; Trädgård - ECPv6.2.0.1//NONSGML v1.0//EN
CALSCALE:GREGORIAN
METHOD:PUBLISH
X-WR-CALNAME:Årås Säteri &amp; Trädgård
X-ORIGINAL-URL:https://nya.araskvarn.se
X-WR-CALDESC:Händelser för Årås Säteri &amp; Trädgård
REFRESH-INTERVAL;VALUE=DURATION:PT1H
X-Robots-Tag:noindex
X-PUBLISHED-TTL:PT1H
BEGIN:VTIMEZONE
TZID:UTC
BEGIN:STANDARD
TZOFFSETFROM:+0000
TZOFFSETTO:+0000
TZNAME:UTC
DTSTART:20230101T000000
END:STANDARD
END:VTIMEZONE
BEGIN:VEVENT
DTSTART;TZID=UTC:20231014T190000
DTEND;TZID=UTC:20231014T233000
DTSTAMP:20260422T222957
CREATED:20230428T100458Z
LAST-MODIFIED:20230428T100458Z
UID:3771-1697310000-1697326200@nya.araskvarn.se
SUMMARY:Oktoberfest i Årås Kvarn
DESCRIPTION:Oktoberfest i Årås Kvarn\nLiveband\, dans och mingel i baren. \nNär: Lördag 14 oktober\nTid: kl. 19:00 – ingen sluttid
URL:https://nya.araskvarn.se/evenemang/oktoberfest-i-aras-kvarn/
LOCATION:Årås Säteri & Trädgård\, Kölingared 112\, Dalum\, 523 75\, Sverige
END:VEVENT
BEGIN:VEVENT
DTSTART;TZID=UTC:20231105T110000
DTEND;TZID=UTC:20231105T160000
DTSTAMP:20260422T222957
CREATED:20230428T100731Z
LAST-MODIFIED:20230428T100731Z
UID:3773-1699182000-1699200000@nya.araskvarn.se
SUMMARY:Julmarknad
DESCRIPTION:Julmarknad på Årås Säteri & trädgård \nÅrås Kvarn\, först ut med julmarknad som vanligt\, många olika utställare med hantverk och tradition i fokus.\nCaféet är öppet. \nNär: Söndag 5 november\nTid: kl 11–16
URL:https://nya.araskvarn.se/evenemang/julmarknad/
LOCATION:Årås Säteri & Trädgård\, Kölingared 112\, Dalum\, 523 75\, Sverige
END:VEVENT
END:VCALENDAR