BEGIN:VCALENDAR
VERSION:2.0
PRODID:-//Årås Säteri &amp; Trädgård - ECPv6.2.0.1//NONSGML v1.0//EN
CALSCALE:GREGORIAN
METHOD:PUBLISH
X-WR-CALNAME:Årås Säteri &amp; Trädgård
X-ORIGINAL-URL:https://nya.araskvarn.se
X-WR-CALDESC:Händelser för Årås Säteri &amp; Trädgård
REFRESH-INTERVAL;VALUE=DURATION:PT1H
X-Robots-Tag:noindex
X-PUBLISHED-TTL:PT1H
BEGIN:VTIMEZONE
TZID:UTC
BEGIN:STANDARD
TZOFFSETFROM:+0000
TZOFFSETTO:+0000
TZNAME:UTC
DTSTART:20230101T000000
END:STANDARD
END:VTIMEZONE
BEGIN:VEVENT
DTSTART;TZID=UTC:20230702T180000
DTEND;TZID=UTC:20230702T213000
DTSTAMP:20260422T170003
CREATED:20230428T094812Z
LAST-MODIFIED:20230428T094812Z
UID:3758-1688320800-1688333400@nya.araskvarn.se
SUMMARY:Gammaldans  på Arenan
DESCRIPTION:Gammaldans på Arenan\nOrkester Eva och Ingvar. \nNär: Söndag 2 juli\nTid: kl. 18:00 – 21:30
URL:https://nya.araskvarn.se/evenemang/gammaldans-pa-arenan/
LOCATION:Årås Säteri & Trädgård\, Kölingared 112\, Dalum\, 523 75\, Sverige
END:VEVENT
BEGIN:VEVENT
DTSTART;TZID=UTC:20230707T190000
DTEND;TZID=UTC:20230707T233000
DTSTAMP:20260422T170003
CREATED:20230428T094941Z
LAST-MODIFIED:20230428T095141Z
UID:3760-1688756400-1688772600@nya.araskvarn.se
SUMMARY:Sommarkväll på Årås
DESCRIPTION:”Sommarkväll på Årås” – Songs from the Movies med Emelie\, Rickard och Anders\nMat och musik i säteriträdgården. \nAnmälan krävs.\nMejla: info@araskvarn.se\nNär: 7 juli\nTid: 19:00 – ingen sluttid
URL:https://nya.araskvarn.se/evenemang/sommarkvall-pa-aras/
LOCATION:Årås Säteri & Trädgård\, Kölingared 112\, Dalum\, 523 75\, Sverige
END:VEVENT
BEGIN:VEVENT
DTSTART;TZID=UTC:20230720T190000
DTEND;TZID=UTC:20230720T233000
DTSTAMP:20260422T170003
CREATED:20230428T095119Z
LAST-MODIFIED:20230717T081156Z
UID:3762-1689879600-1689895800@nya.araskvarn.se
SUMMARY:Sommarkväll på Årås Jazzband
DESCRIPTION:”Sommarkväll på Årås” – med Jazzbandet Marigold\nMat och musik i säteriträdgården\, \nAnmälan krävs\nMejla: info@araskvarn.se\nNär: 20 juli\nTid: 19:00 – ingen sluttid
URL:https://nya.araskvarn.se/evenemang/sommarkvall-pa-aras-jazzband/
LOCATION:Årås Säteri & Trädgård\, Kölingared 112\, Dalum\, 523 75\, Sverige
ATTACH;FMTTYPE=image/jpeg:https://media1.araskvarn.se/2023/06/Arenan_festdukning-1.jpeg
END:VEVENT
END:VCALENDAR